BEGIN:VCALENDAR
VERSION:2.0
PRODID:-//Bioneers Conference//EN
CALSCALE:GREGORIAN
METHOD:PUBLISH
BEGIN:VEVENT
UID:12162-969768d6e2179e1fcb2441769732b0d2@conference.bioneers.org
DTSTAMP:20260423T122502Z
DTSTART:20260328T220000Z
DTEND:20260328T231500Z
SUMMARY:Food Justice from the Local to the Global: Raj Patel and Leah Pen
 niman in Conversation
DESCRIPTION:Bioneers is delighted to be able to bring together two ground
 breaking figures in the struggle for an equitable and healthy food system
 \, one working on the global architecture of that system\, the other a ha
 nds-on farme...\n\nhttps://conference.bioneers.org/food-justice-from-the-
 local-to-the-global-raj-patel-and-leah-penniman-in-conversation/
LOCATION:Freight & Salvage\, 2020 Addison St\, Berkeley\, CA 94704
URL:https://conference.bioneers.org/food-justice-from-the-local-to-the-gl
 obal-raj-patel-and-leah-penniman-in-conversation/
END:VEVENT
END:VCALENDAR
