BEGIN:VCALENDAR
VERSION:2.0
PRODID:-//Bioneers Conference//EN
CALSCALE:GREGORIAN
METHOD:PUBLISH
BEGIN:VEVENT
UID:12164-bd0c413d41fd979ec7625bfd93b471cc@conference.bioneers.org
DTSTAMP:20260423T120644Z
DTSTART:20260328T220000Z
DTEND:20260328T231500Z
SUMMARY:Wisdom from the Nonbinary: Medicines of Wholeness for Fractured T
 imes
DESCRIPTION:In a current moment characterized by intertwined hostilities 
 and manufactured borderlines\, how can we lean into the wisdom of the non
 binary to aid us in building lasting solidarities that transcend identity
  politics?...\n\nhttps://conference.bioneers.org/wisdom-from-the-nonbinar
 y-medicines-of-wholeness-for-fractured-times/
LOCATION:Crystal Ballroom\, Hotel Shattuck Plaza\, 2086 Allston Way\, Ber
 keley\, CA 94704
URL:https://conference.bioneers.org/wisdom-from-the-nonbinary-medicines-o
 f-wholeness-for-fractured-times/
END:VEVENT
END:VCALENDAR
