BEGIN:VCALENDAR
VERSION:2.0
PRODID:-//Bioneers Conference//EN
CALSCALE:GREGORIAN
METHOD:PUBLISH
BEGIN:VEVENT
UID:12168-3b606ce007040ca608d100aab712bb90@conference.bioneers.org
DTSTAMP:20260424T121125Z
DTSTART:20260328T220000Z
DTEND:20260328T231500Z
SUMMARY:Experiential Session – Listening for Life: The Art of Radical Lis
 tening
DESCRIPTION:In this experiential workshop well draw from The Art of Radic
 al Listening: Revealing Collective Wisdom for Change\, co-authored by our
  two facilitators: rainforest protector/environmental activist\, founder 
 of Health in...\n\nhttps://conference.bioneers.org/experiential-session-l
 istening-for-life-the-art-of-radical-listening/
LOCATION:Skillful Means Center\, Dharma College\, 2222 Harold Way\, Berke
 ley\, CA 94704
URL:https://conference.bioneers.org/experiential-session-listening-for-li
 fe-the-art-of-radical-listening/
END:VEVENT
END:VCALENDAR
