BEGIN:VCALENDAR
VERSION:2.0
PRODID:-//Bioneers Conference//EN
CALSCALE:GREGORIAN
METHOD:PUBLISH
BEGIN:VEVENT
UID:12170-4803a62aed209337d482a95e3fc5bc3d@conference.bioneers.org
DTSTAMP:20260424T121126Z
DTSTART:20260328T220000Z
DTEND:20260328T231500Z
SUMMARY:Interactive Session – Youth Versus Plastic: Challenging Plastic P
 ollution Across Turtle Island
DESCRIPTION:When UN leaders failed to pass a meaningful global plastics t
 reaty\, young organizers from across Hawaiʻi and Louisianas Cancer Alley 
 came together to confront plastic pollution from both ends of the pipelin
 e\, i.e.wher...\n\nhttps://conference.bioneers.org/interactive-session-yo
 uth-versus-plastic-challenging-plastic-pollution-across-turtle-island/
LOCATION:Lotus Cafe\, Dharma College\, 2222 Harold Way\, Berkeley\, CA 94
 704
URL:https://conference.bioneers.org/interactive-session-youth-versus-plas
 tic-challenging-plastic-pollution-across-turtle-island/
END:VEVENT
END:VCALENDAR
