BEGIN:VCALENDAR
VERSION:2.0
PRODID:-//Bioneers Conference//EN
CALSCALE:GREGORIAN
METHOD:PUBLISH
BEGIN:VEVENT
UID:12175-0457711cce5056a715520dfb2ae2388a@conference.bioneers.org
DTSTAMP:20260424T121157Z
DTSTART:20260328T220000Z
DTEND:20260328T231500Z
SUMMARY:Tending Our Grief: A Conversation and Ritual
DESCRIPTION:Each afternoon\, members of the Coalition to Dismantle the Do
 ctrine of Discovery invite you to a community circle designed to help us 
 grieve our individual and collective losses. By naming our losses and mou
 rning toget...\n\nhttps://conference.bioneers.org/tending-our-grief-a-con
 versation-and-ritual-5/
LOCATION:Insight Room\, Dharma College\, 2222 Harold Way\, Berkeley\, CA 
 94704
URL:https://conference.bioneers.org/tending-our-grief-a-conversation-and-
 ritual-5/
END:VEVENT
END:VCALENDAR
