BEGIN:VCALENDAR
VERSION:2.0
PRODID:-//Bioneers Conference//EN
CALSCALE:GREGORIAN
METHOD:PUBLISH
BEGIN:VEVENT
UID:12177-f2902d1ccc62fddcb4ad6ce20182b757@conference.bioneers.org
DTSTAMP:20260423T071842Z
DTSTART:20260328T234500Z
DTEND:20260329T010000Z
SUMMARY:The Hardest Problem: What is Consciousness? Michael Pollan and Da
 cher Keltner in Conversation
DESCRIPTION:Theres a good reason that philosophers\, who have been strugg
 ling to understand consciousness for millennia\, call it the hard problem
 . Michael Pollan\, triggered by his experiences in meditation and with ps
 ychedelics\, d...\n\nhttps://conference.bioneers.org/the-hardest-problem-
 what-is-consciousness-michael-pollan-and-dacher-keltner-in-conversation/
LOCATION:Freight & Salvage\, 2020 Addison St\, Berkeley\, CA 94704
URL:https://conference.bioneers.org/the-hardest-problem-what-is-conscious
 ness-michael-pollan-and-dacher-keltner-in-conversation/
END:VEVENT
END:VCALENDAR
