BEGIN:VCALENDAR
VERSION:2.0
PRODID:-//Bioneers Conference//EN
CALSCALE:GREGORIAN
METHOD:PUBLISH
BEGIN:VEVENT
UID:12179-4607ebec924ce3364bb8a51649b00d4e@conference.bioneers.org
DTSTAMP:20260423T072826Z
DTSTART:20260328T234500Z
DTEND:20260329T010000Z
SUMMARY:Rematriation: Returning to the Sacred Mother
DESCRIPTION:This session will delve deeply into the concept of rematriati
 on\, revealing how acknowledging the land and the planet as our Mother an
 d acting accordingly has to lead us to a revisioning of our current value
 s and insti...\n\nhttps://conference.bioneers.org/rematriation-returning-
 to-the-sacred-mother/
LOCATION:Magnes Museum\, 2121 Allston Way\, Berkeley\, CA 94720
URL:https://conference.bioneers.org/rematriation-returning-to-the-sacred-
 mother/
END:VEVENT
END:VCALENDAR
