BEGIN:VCALENDAR
VERSION:2.0
PRODID:-//Bioneers Conference//EN
CALSCALE:GREGORIAN
METHOD:PUBLISH
BEGIN:VEVENT
UID:12182-bffae6b39535f19cef56547d50678994@conference.bioneers.org
DTSTAMP:20260423T120645Z
DTSTART:20260328T234500Z
DTEND:20260329T010000Z
SUMMARY:Green Chemistry Innovation and Education
DESCRIPTION:Chemistry underpins 96 of all manufactured goods\, but most m
 aterials and products are designed using processes that generate excess w
 aste\, rely on hazardous substances\, generate carbon emissions\, and cau
 se long-term d...\n\nhttps://conference.bioneers.org/green-chemistry-inno
 vation-and-education/
LOCATION:Golden Bear Room\, Hotel Shattuck Plaza\, 2086 Allston Way\, Ber
 keley\, CA 94704
URL:https://conference.bioneers.org/green-chemistry-innovation-and-educat
 ion/
END:VEVENT
END:VCALENDAR
