BEGIN:VCALENDAR
VERSION:2.0
PRODID:-//Bioneers Conference//EN
CALSCALE:GREGORIAN
METHOD:PUBLISH
BEGIN:VEVENT
UID:12186-d54fd38a8a6845ff49672f5314cd3184@conference.bioneers.org
DTSTAMP:20260423T120721Z
DTSTART:20260328T234500Z
DTEND:20260329T010000Z
SUMMARY:The Purpose Pledge: New Visions for “Green” Business
DESCRIPTION:One might think\, in this reactionary era in which slews of c
 orporations that formerly claimed to be concerned about climate and equit
 y race to ditch their ESG and DEI departments and flaunt their regression
  to amoral...\n\nhttps://conference.bioneers.org/the-purpose-pledge-new-v
 isions-for-green-business/
LOCATION:Crystal Ballroom\, Hotel Shattuck Plaza\, 2086 Allston Way\, Ber
 keley\, CA 94704
URL:https://conference.bioneers.org/the-purpose-pledge-new-visions-for-gr
 een-business/
END:VEVENT
END:VCALENDAR
