BEGIN:VCALENDAR
VERSION:2.0
PRODID:-//Bioneers Conference//EN
CALSCALE:GREGORIAN
METHOD:PUBLISH
BEGIN:VEVENT
UID:12188-55aed0764cf533c60e111f7f2cea79b2@conference.bioneers.org
DTSTAMP:20260424T121156Z
DTSTART:20260328T234500Z
DTEND:20260329T010000Z
SUMMARY:Experiential Session – Singing Our Bones
DESCRIPTION:Our bones remember. Many ancient wisdom practices honor the b
 ones ability to seed and hold memory\, to be pathways of vibrational comm
 unication and healing. In this session\, we will discover singing our bon
 es\, a highly...\n\nhttps://conference.bioneers.org/experiential-session-
 singing-our-bones/
LOCATION:Skillful Means Center\, Dharma College\, 2222 Harold Way\, Berke
 ley\, CA 94704
URL:https://conference.bioneers.org/experiential-session-singing-our-bone
 s/
END:VEVENT
END:VCALENDAR
