BEGIN:VCALENDAR
VERSION:2.0
PRODID:-//Bioneers Conference//EN
CALSCALE:GREGORIAN
METHOD:PUBLISH
BEGIN:VEVENT
UID:12190-eec1cbba4ddf89ef399fbf6077ae9d15@conference.bioneers.org
DTSTAMP:20260423T154757Z
DTSTART:20260328T234500Z
DTEND:20260329T010000Z
SUMMARY:Interactive Session – Unlearning Whiteness and Turning Toward the
  Joy of Greater Belonging
DESCRIPTION:This workshop will offer a space for white-identifying partic
 ipants of all ages to explore how to move past the amnesia and denial of 
 whiteness by connecting with the best traditions of our ancestors and see
 king to cr...\n\nhttps://conference.bioneers.org/interactive-session-unle
 arning-whiteness-and-turning-toward-the-joy-of-greater-belonging/
LOCATION:Lotus Cafe\, Dharma College\, 2222 Harold Way\, Berkeley\, CA 94
 704
URL:https://conference.bioneers.org/interactive-session-unlearning-whiten
 ess-and-turning-toward-the-joy-of-greater-belonging/
END:VEVENT
END:VCALENDAR
