BEGIN:VCALENDAR
VERSION:2.0
PRODID:-//Bioneers Conference//EN
CALSCALE:GREGORIAN
METHOD:PUBLISH
BEGIN:VEVENT
UID:12194-7d6cf040604b29d2d4bcfa66fdd7ae2e@conference.bioneers.org
DTSTAMP:20260424T121126Z
DTSTART:20260328T220000Z
DTEND:20260328T231500Z
SUMMARY:Water\, Spirit\, Power
DESCRIPTION:In this session Bioneers ally Taproot Earth\, a global climat
 e justice organization rooted in Louisiana\, will bring together Indigeno
 us women leaders from around the world to share their Earth-honoring pers
 pectives and...\n\nhttps://conference.bioneers.org/water-spirit-power/
LOCATION:Magnes Museum\, 2121 Allston Way\, Berkeley\, CA 94720
URL:https://conference.bioneers.org/water-spirit-power/
END:VEVENT
END:VCALENDAR
