BEGIN:VCALENDAR
VERSION:2.0
PRODID:-//Bioneers Conference//EN
CALSCALE:GREGORIAN
METHOD:PUBLISH
BEGIN:VEVENT
UID:12201-ff94330399f4e11e50ef0362a495a16b@conference.bioneers.org
DTSTAMP:20260423T004307Z
DTSTART:20260326T220000Z
DTEND:20260326T231500Z
SUMMARY:Indigenous Forum – We Survived Apocalypse: Lessons in Resilience
DESCRIPTION:For 500 years\, our ancestors faced annihilation\, and yet we
  Indigenous inhabitants of this continent are still here\, so its no surp
 rise many other people are turning to us for help in finding ways to addr
 ess the bigge...\n\nhttps://conference.bioneers.org/indigenous-forum-we-s
 urvived-apocalypse-lessons-in-resilience/
LOCATION:Berkeley Ballroom\, Residence Inn\, 2121 Center St\, Berkeley\, 
 CA 94704
URL:https://conference.bioneers.org/indigenous-forum-we-survived-apocalyp
 se-lessons-in-resilience/
END:VEVENT
END:VCALENDAR
