BEGIN:VCALENDAR
VERSION:2.0
PRODID:-//Bioneers Conference//EN
CALSCALE:GREGORIAN
METHOD:PUBLISH
BEGIN:VEVENT
UID:12205-021922701925d0f4824f10a2a4040dbd@conference.bioneers.org
DTSTAMP:20260423T004306Z
DTSTART:20260327T234500Z
DTEND:20260328T010000Z
SUMMARY:Indigenous Forum – Spirit and Science Meets the Sea: Indigenous K
 nowledge and Action to Protect Our Ocean Relatives
DESCRIPTION:Human activities\, primarily overfishing\, pollution\, and cl
 imate change are causing unprecedented damage to marine ecosystems\, lead
 ing to massive biodiversity loss and the destruction of habitats\, proble
 ms that cannot...\n\nhttps://conference.bioneers.org/indigenous-forum-ind
 igenous-knowledge-and-action-to-protect-whales/
LOCATION:Berkeley Ballroom\, Residence Inn\, 2121 Center St\, Berkeley\, 
 CA 94704
URL:https://conference.bioneers.org/indigenous-forum-indigenous-knowledge
 -and-action-to-protect-whales/
END:VEVENT
END:VCALENDAR
