BEGIN:VCALENDAR
VERSION:2.0
PRODID:-//Bioneers Conference//EN
CALSCALE:GREGORIAN
METHOD:PUBLISH
BEGIN:VEVENT
UID:12208-fa7063aa59ee5304b849a8dad06f8dee@conference.bioneers.org
DTSTAMP:20260420T140158Z
DTSTART:20260328T220000Z
DTEND:20260328T231500Z
SUMMARY:Indigenous Forum – Women at the Center: A Call to Interdependence
DESCRIPTION:Women are central to the Great Law of Peace and Governance wi
 thin the Six Nations\, whose federalist structure valuing peace\, justice
  and collective wellbeing inspired democracy in the United States. A time
 ly new book...\n\nhttps://conference.bioneers.org/women-at-the-center-a-c
 all-to-interdependence/
LOCATION:Berkeley Ballroom\, Residence Inn\, 2121 Center St\, Berkeley\, 
 CA 94704
URL:https://conference.bioneers.org/women-at-the-center-a-call-to-interde
 pendence/
END:VEVENT
END:VCALENDAR
