BEGIN:VCALENDAR
VERSION:2.0
PRODID:-//Bioneers Conference//EN
CALSCALE:GREGORIAN
METHOD:PUBLISH
BEGIN:VEVENT
UID:12215-25141942ab91a8c1b40fdef2c103a17f@conference.bioneers.org
DTSTAMP:20260423T004306Z
DTSTART:20260328T234500Z
DTEND:20260329T010000Z
SUMMARY:Indigenous Forum – Honoring Plant Protocol 
DESCRIPTION:Plants are our relatives\, invaluable allies in sustaining ou
 r physical\, mental and spiritual well being. But the Indigenous relation
 ship with plants has been severely disrupted by cultural appropriation\, 
 corporatizati...\n\nhttps://conference.bioneers.org/honoring-plant-protoc
 ol/
LOCATION:Berkeley Ballroom\, Residence Inn\, 2121 Center St\, Berkeley\, 
 CA 94704
URL:https://conference.bioneers.org/honoring-plant-protocol/
END:VEVENT
END:VCALENDAR
