BEGIN:VCALENDAR
VERSION:2.0
PRODID:-//Bioneers Conference//EN
CALSCALE:GREGORIAN
METHOD:PUBLISH
BEGIN:VEVENT
UID:12230-6028655b267dc2ec80d0171c9d482733@conference.bioneers.org
DTSTAMP:20260424T121031Z
DTSTART:20260326T155000Z
DTEND:20260326T160500Z
SUMMARY:Drumming by Deb Lane and Afia Walking Tree
DESCRIPTION:https://conference.bioneers.org/drumming-by-deb-lane-and-afia
 -walking-tree/
LOCATION:Zellerbach Hall\, 101 Zellerbach Hall\, Berkeley\, CA 94720
URL:https://conference.bioneers.org/drumming-by-deb-lane-and-afia-walking
 -tree/
END:VEVENT
END:VCALENDAR
