BEGIN:VCALENDAR
VERSION:2.0
PRODID:-//Bioneers Conference//EN
CALSCALE:GREGORIAN
METHOD:PUBLISH
BEGIN:VEVENT
UID:12234-872682f1018bb1d134700336514c4986@conference.bioneers.org
DTSTAMP:20260424T121125Z
DTSTART:20260326T162500Z
DTEND:20260326T163300Z
SUMMARY:Opening Ceremony by Corrina Gould (Lisjan Ohlone)\, the Chair and
  Spokesperson for the Confederated Villages of Lisjan
DESCRIPTION:https://conference.bioneers.org/opening-ceremony-by-corrina-g
 ould-lisjan-ohlone-the-chair-and-spokesperson-for-the-confederated-villag
 es-of-lisjan/
LOCATION:Zellerbach Hall\, 101 Zellerbach Hall\, Berkeley\, CA 94720
URL:https://conference.bioneers.org/opening-ceremony-by-corrina-gould-lis
 jan-ohlone-the-chair-and-spokesperson-for-the-confederated-villages-of-li
 sjan/
END:VEVENT
END:VCALENDAR
