BEGIN:VCALENDAR
VERSION:2.0
PRODID:-//Bioneers Conference//EN
CALSCALE:GREGORIAN
METHOD:PUBLISH
BEGIN:VEVENT
UID:12236-836be40afa03ed3766a3e4bd28be78d5@conference.bioneers.org
DTSTAMP:20260423T120553Z
DTSTART:20260326T164000Z
DTEND:20260327T170000Z
SUMMARY:Ferris Jabr – Becoming Earth: How Our Planet Came to Life 
DESCRIPTION:Western science has long resisted and even ridiculed the idea
  that our planet is alive\, but many scientists now recognize that Earth 
 and life continually coevolve and that\, together\, they form a single\, 
 interconnected...\n\nhttps://conference.bioneers.org/ferris-jabr-becoming
 -earth-how-our-planet-came-to-life/
LOCATION:Zellerbach Hall\, 101 Zellerbach Hall\, Berkeley\, CA 94720
URL:https://conference.bioneers.org/ferris-jabr-becoming-earth-how-our-pl
 anet-came-to-life/
END:VEVENT
END:VCALENDAR
