BEGIN:VCALENDAR
VERSION:2.0
PRODID:-//Bioneers Conference//EN
CALSCALE:GREGORIAN
METHOD:PUBLISH
BEGIN:VEVENT
UID:12238-ef3906a19185860631764f291a4614d0@conference.bioneers.org
DTSTAMP:20260423T005320Z
DTSTART:20260326T170100Z
DTEND:20260326T172300Z
SUMMARY:Gary Farmer – A Change Has Gotta Come
DESCRIPTION:Now in his 50th year working as a media creator\, actor and m
 usician\, Gary Farmer has been a groundbreaking figure in prying open doo
 rs for Indigenous contributors to the performing arts\, helping found a m
 agazine and r...\n\nhttps://conference.bioneers.org/gary-farmer-a-change-
 has-gotta-come/
LOCATION:Zellerbach Hall\, 101 Zellerbach Hall\, Berkeley\, CA 94720
URL:https://conference.bioneers.org/gary-farmer-a-change-has-gotta-come/
END:VEVENT
END:VCALENDAR
