BEGIN:VCALENDAR
VERSION:2.0
PRODID:-//Bioneers Conference//EN
CALSCALE:GREGORIAN
METHOD:PUBLISH
BEGIN:VEVENT
UID:12240-f601f1f593a5d0063dad160ad66d3e7c@conference.bioneers.org
DTSTAMP:20260424T120222Z
DTSTART:20260326T174300Z
DTEND:20260327T175600Z
SUMMARY:Performance by Garth Stevenson
DESCRIPTION:https://conference.bioneers.org/performance-by-garth-stevenso
 n/
LOCATION:Zellerbach Hall\, 101 Zellerbach Hall\, Berkeley\, CA 94720
URL:https://conference.bioneers.org/performance-by-garth-stevenson/
END:VEVENT
END:VCALENDAR
