BEGIN:VCALENDAR
VERSION:2.0
PRODID:-//Bioneers Conference//EN
CALSCALE:GREGORIAN
METHOD:PUBLISH
BEGIN:VEVENT
UID:12243-b76e5aa34021366d93a5dd88548220f7@conference.bioneers.org
DTSTAMP:20260424T121156Z
DTSTART:20260326T182600Z
DTEND:20260326T184800Z
SUMMARY:Saru Jayaraman – What has Democracy Done For Me Lately? Engaging 
 Working People in the Fight to Save Democracy
DESCRIPTION:A large coalition of labor and community organizations has la
 unched a national Living Wage for All campaign\, a bold push to address t
 he affordability crisis\, a centerpiece of which is raising the minimum w
 age closer t...\n\nhttps://conference.bioneers.org/saru-jayaraman-what-ha
 s-democracy-done-for-me-lately-engaging-working-people-in-the-fight-to-sa
 ve-democracy/
LOCATION:Zellerbach Hall\, 101 Zellerbach Hall\, Berkeley\, CA 94720
URL:https://conference.bioneers.org/saru-jayaraman-what-has-democracy-don
 e-for-me-lately-engaging-working-people-in-the-fight-to-save-democracy/
END:VEVENT
END:VCALENDAR
