BEGIN:VCALENDAR
VERSION:2.0
PRODID:-//Bioneers Conference//EN
CALSCALE:GREGORIAN
METHOD:PUBLISH
BEGIN:VEVENT
UID:12245-472d48601d939889937b4309e1c16ba3@conference.bioneers.org
DTSTAMP:20260423T120644Z
DTSTART:20260326T184800Z
DTEND:20260326T191000Z
SUMMARY:Terry Tempest Williams – The Glorians Are Among Us
DESCRIPTION:Terry Tempest Williams\, one of our nations living literary t
 reasures and a guiding light for many of us regarding ethics and citizens
 hip\, will share how she emerged from a dream during the pandemic in 2020
  with a rene...\n\nhttps://conference.bioneers.org/terry-tempest-williams
 -the-glorians-are-among-us/
LOCATION:Zellerbach Hall\, 101 Zellerbach Hall\, Berkeley\, CA 94720
URL:https://conference.bioneers.org/terry-tempest-williams-the-glorians-a
 re-among-us/
END:VEVENT
END:VCALENDAR
