BEGIN:VCALENDAR
VERSION:2.0
PRODID:-//Bioneers Conference//EN
CALSCALE:GREGORIAN
METHOD:PUBLISH
BEGIN:VEVENT
UID:12251-ddb12333485f99b2eca92bafdda34965@conference.bioneers.org
DTSTAMP:20260423T120536Z
DTSTART:20260327T164000Z
DTEND:20260327T170100Z
SUMMARY:Leah Penniman – Free the People! Free the Land!
DESCRIPTION:The right to food and the right to land are fundamental to hu
 man freedom\, dignity\, and self-determination\, but locally and globally
 \, land and food have been leveraged as tools of oppression. Fortunately\
 , they can also...\n\nhttps://conference.bioneers.org/leah-penniman-free-
 the-people-free-the-land/
LOCATION:Zellerbach Hall\, 101 Zellerbach Hall\, Berkeley\, CA 94720
URL:https://conference.bioneers.org/leah-penniman-free-the-people-free-th
 e-land/
END:VEVENT
END:VCALENDAR
