BEGIN:VCALENDAR
VERSION:2.0
PRODID:-//Bioneers Conference//EN
CALSCALE:GREGORIAN
METHOD:PUBLISH
BEGIN:VEVENT
UID:12253-292f7d23f3248f863df757fddf994543@conference.bioneers.org
DTSTAMP:20260423T120552Z
DTSTART:20260327T173800Z
DTEND:20260327T180000Z
SUMMARY:Cristina Jiménez Moreta – Mass Deportations: A Tipping Point Mome
 nt for All of Us
DESCRIPTION:With federal incursions tearing through communities from coas
 t to coast and huge new detention centers coming online\, it is understan
 dable that many of us could feel overwhelmed and powerless in the light o
 f such frig...\n\nhttps://conference.bioneers.org/cristina-jimenez-moreta
 -keynote-address/
LOCATION:Zellerbach Hall\, 101 Zellerbach Hall\, Berkeley\, CA 94720
URL:https://conference.bioneers.org/cristina-jimenez-moreta-keynote-addre
 ss/
END:VEVENT
END:VCALENDAR
