BEGIN:VCALENDAR
VERSION:2.0
PRODID:-//Bioneers Conference//EN
CALSCALE:GREGORIAN
METHOD:PUBLISH
BEGIN:VEVENT
UID:12255-d6c3287e7785c3595d36a86564bdedcc@conference.bioneers.org
DTSTAMP:20260424T120119Z
DTSTART:20260327T172800Z
DTEND:20260327T173800Z
SUMMARY:Performance by Destani Wolf
DESCRIPTION:https://conference.bioneers.org/performance-by-destani-wolf/
LOCATION:Zellerbach Hall\, 101 Zellerbach Hall\, Berkeley\, CA 94720
URL:https://conference.bioneers.org/performance-by-destani-wolf/
END:VEVENT
END:VCALENDAR
