BEGIN:VCALENDAR
VERSION:2.0
PRODID:-//Bioneers Conference//EN
CALSCALE:GREGORIAN
METHOD:PUBLISH
BEGIN:VEVENT
UID:12259-21de81b8589e4e50fa3e4bf189e600d1@conference.bioneers.org
DTSTAMP:20260424T121158Z
DTSTART:20260327T180000Z
DTEND:20260327T180900Z
SUMMARY:Young Leaders: Kyle Trefny – When Orange Skies Clear
DESCRIPTION:Kyle Trefny was 18 years old in 2020 when skies in the San Fr
 ancisco Bay Area and much of the Pacific Coast turned orange with wildfir
 e smoke. He will share how that moment led him to become a wildland firef
 ighter and...\n\nhttps://conference.bioneers.org/young-leaders-kyle-trefn
 y-when-orange-skies-clear/
LOCATION:Zellerbach Hall\, 101 Zellerbach Hall\, Berkeley\, CA 94720
URL:https://conference.bioneers.org/young-leaders-kyle-trefny-when-orange
 -skies-clear/
END:VEVENT
END:VCALENDAR
