BEGIN:VCALENDAR
VERSION:2.0
PRODID:-//Bioneers Conference//EN
CALSCALE:GREGORIAN
METHOD:PUBLISH
BEGIN:VEVENT
UID:12265-bfc8d8d44198f14def0318d8c0b9aaf8@conference.bioneers.org
DTSTAMP:20260423T120645Z
DTSTART:20260327T184600Z
DTEND:20260327T190800Z
SUMMARY:Cory Doctorow – The “Enshittification” of Everything
DESCRIPTION:Renowned science fiction author\, activist and journalist Cor
 y Doctorow coined the term enshittification in 2022 to describe the degra
 dation of online platforms. Today\, he will draw from his most recent non
 fiction book...\n\nhttps://conference.bioneers.org/cory-doctorow-the-ensh
 ittification-of-everything/
LOCATION:Zellerbach Hall\, 101 Zellerbach Hall\, Berkeley\, CA 94720
URL:https://conference.bioneers.org/cory-doctorow-the-enshittification-of
 -everything/
END:VEVENT
END:VCALENDAR
