BEGIN:VCALENDAR
VERSION:2.0
PRODID:-//Bioneers Conference//EN
CALSCALE:GREGORIAN
METHOD:PUBLISH
BEGIN:VEVENT
UID:12267-d47ffd2a9da0e8dcf63ac3df63c3d5ab@conference.bioneers.org
DTSTAMP:20260424T121049Z
DTSTART:20260328T155000Z
DTEND:20260328T160500Z
SUMMARY:Drumming by Deb Lane and Afia Walking Tree
DESCRIPTION:https://conference.bioneers.org/drumming-by-deb-lane-and-afia
 -walking-tree-3/
LOCATION:Zellerbach Hall\, 101 Zellerbach Hall\, Berkeley\, CA 94720
URL:https://conference.bioneers.org/drumming-by-deb-lane-and-afia-walking
 -tree-3/
END:VEVENT
END:VCALENDAR
