BEGIN:VCALENDAR
VERSION:2.0
PRODID:-//Bioneers Conference//EN
CALSCALE:GREGORIAN
METHOD:PUBLISH
BEGIN:VEVENT
UID:12271-7d019fb768c05197b450f1db86e8b26a@conference.bioneers.org
DTSTAMP:20260423T120721Z
DTSTART:20260328T163800Z
DTEND:20260328T170000Z
SUMMARY:John Warner – Biomimicry at the Molecular Level—Inventing a Susta
 inable Future
DESCRIPTION:John Warner\, one of the co-founders of the entire field of G
 reen Chemistry who co-authored its defining text and co-articulated its c
 ore principles\, works to create commercial technologies inspired by natu
 re. An inven...\n\nhttps://conference.bioneers.org/john-warner-biomimicry
 -at-the-molecular-level-inventing-a-sustainable-future/
LOCATION:Zellerbach Hall\, 101 Zellerbach Hall\, Berkeley\, CA 94720
URL:https://conference.bioneers.org/john-warner-biomimicry-at-the-molecul
 ar-level-inventing-a-sustainable-future/
END:VEVENT
END:VCALENDAR
