BEGIN:VCALENDAR
VERSION:2.0
PRODID:-//Bioneers Conference//EN
CALSCALE:GREGORIAN
METHOD:PUBLISH
BEGIN:VEVENT
UID:12278-0bf131b713daddfa6c3b075a71b06bcf@conference.bioneers.org
DTSTAMP:20260423T120721Z
DTSTART:20260328T170000Z
DTEND:20260328T172200Z
SUMMARY:Raj Patel – Food Solidarity vs Fascism
DESCRIPTION:As we today once again face the aggression of authoritarian o
 ligarchy\, there is a great deal we can learn from how food workers confr
 onted fascism a century ago. Socialist and anarchist movements around the
  world gave...\n\nhttps://conference.bioneers.org/raj-patel-food-solidari
 ty-vs-fascism/
LOCATION:Zellerbach Hall\, 101 Zellerbach Hall\, Berkeley\, CA 94720
URL:https://conference.bioneers.org/raj-patel-food-solidarity-vs-fascism/
END:VEVENT
END:VCALENDAR
