BEGIN:VCALENDAR
VERSION:2.0
PRODID:-//Bioneers Conference//EN
CALSCALE:GREGORIAN
METHOD:PUBLISH
BEGIN:VEVENT
UID:12280-90647952f7cb4fa8e2c44bc65a44be91@conference.bioneers.org
DTSTAMP:20260424T121032Z
DTSTART:20260326T180000Z
DTEND:20260326T181000Z
SUMMARY:Young Leaders: Coley Kakols Miller – Undam the Klamath: The Fight
  Isn’t Over Yet 
DESCRIPTION:After the largest dam removal project in U.S. history in whic
 h four out of six dams were removed from the Klamath River\, an intertrib
 al cohort of Indigenous youth became the first people in over a century t
 o descend a...\n\nhttps://conference.bioneers.org/young-leaders-coley-mil
 ler/
LOCATION:Zellerbach Hall\, 101 Zellerbach Hall\, Berkeley\, CA 94720
URL:https://conference.bioneers.org/young-leaders-coley-miller/
END:VEVENT
END:VCALENDAR
