BEGIN:VCALENDAR
VERSION:2.0
PRODID:-//Bioneers Conference//EN
CALSCALE:GREGORIAN
METHOD:PUBLISH
BEGIN:VEVENT
UID:12283-d40e441650f6aa8ed38b9635dda11933@conference.bioneers.org
DTSTAMP:20260421T055133Z
DTSTART:20260328T174300Z
DTEND:20260328T175300Z
SUMMARY:Performance by Destiny Arts Youth Performance Company
DESCRIPTION:https://conference.bioneers.org/performance-by-destiny-arts-y
 outh-performance-company/
LOCATION:Zellerbach Hall\, 101 Zellerbach Hall\, Berkeley\, CA 94720
URL:https://conference.bioneers.org/performance-by-destiny-arts-youth-per
 formance-company/
END:VEVENT
END:VCALENDAR
