BEGIN:VCALENDAR
VERSION:2.0
PRODID:-//Bioneers Conference//EN
CALSCALE:GREGORIAN
METHOD:PUBLISH
BEGIN:VEVENT
UID:12285-2724fdd6814f70f9b3fac99216ee8766@conference.bioneers.org
DTSTAMP:20260423T120552Z
DTSTART:20260328T181400Z
DTEND:20260328T183600Z
SUMMARY:Samantha Skenandore – Re-Evolving Indigeneity to Save our Planet
DESCRIPTION:If we are to have a chance of reversing the destructive path 
 our world is currently on and ushering in a genuinely nature-honoring era
  in which decisions will be made based on their effects seven generations
  in the fu...\n\nhttps://conference.bioneers.org/samantha-skenandore-keyn
 ote-address/
LOCATION:Zellerbach Hall\, 101 Zellerbach Hall\, Berkeley\, CA 94720
URL:https://conference.bioneers.org/samantha-skenandore-keynote-address/
END:VEVENT
END:VCALENDAR
