BEGIN:VCALENDAR
VERSION:2.0
PRODID:-//Bioneers Conference//EN
CALSCALE:GREGORIAN
METHOD:PUBLISH
BEGIN:VEVENT
UID:12287-4495e802315e173e91213e3a5ece6dda@conference.bioneers.org
DTSTAMP:20260423T074106Z
DTSTART:20260328T183900Z
DTEND:20260328T190100Z
SUMMARY:Michael Pollan – A World Appears: A Journey into Consciousness
DESCRIPTION:Michael Pollan\, one of the nations most influential non-fict
 ion writers and investigative journalists\, is the author of nine previou
 s bestselling books\, including How to Change Your Mind\; In Defense of F
 ood\; The Omniv...\n\nhttps://conference.bioneers.org/michael-pollan-a-wo
 rld-appears-a-journey-into-consciousness/
LOCATION:Zellerbach Hall\, 101 Zellerbach Hall\, Berkeley\, CA 94720
URL:https://conference.bioneers.org/michael-pollan-a-world-appears-a-jour
 ney-into-consciousness/
END:VEVENT
END:VCALENDAR
