BEGIN:VCALENDAR
VERSION:2.0
PRODID:-//Bioneers Conference//EN
CALSCALE:GREGORIAN
METHOD:PUBLISH
BEGIN:VEVENT
UID:13079-ebce5df85365bb19207be76773143e79@conference.bioneers.org
DTSTAMP:20260424T121049Z
DTSTART:20260328T022500Z
DTEND:20260328T023500Z
SUMMARY:Film Screening: Shelterwood Collective short film on Fire Steward
 ship
DESCRIPTION:Introduction by Brandon Jones and Yomi Young\, of Shelterwood
 This brand-new short by the Shelterwood Collective\, a community rooted i
 n a commitment to restoration\, sustainability\, and new life\, describes
  their fire ste...\n\nhttps://conference.bioneers.org/shelterwood-collect
 ive-short-film-on-fire-stewardship/
LOCATION:Goldman Theater\, Brower Center\, 2150 Allston Way\, Berkeley\, 
 CA 94704
URL:https://conference.bioneers.org/shelterwood-collective-short-film-on-
 fire-stewardship/
END:VEVENT
END:VCALENDAR
