BEGIN:VCALENDAR
VERSION:2.0
PRODID:-//Bioneers Conference//EN
CALSCALE:GREGORIAN
METHOD:PUBLISH
BEGIN:VEVENT
UID:13099-427bcfecc2c022cc7e01e76860868528@conference.bioneers.org
DTSTAMP:20260423T004409Z
DTSTART:20260327T011500Z
DTEND:20260327T021500Z
SUMMARY:Book Signings with Pegasus Books
DESCRIPTION:Danielle Hill & Alexis Bunten signing copies of Keepunumuk: W
 eeâchumun's Thanksgiving Story Ferris Jabr signing copies of Becoming Ear
 th: A Journey Through the Hidden Wonders that Bring Our Planet to Life Su
 zanne Sima...\n\nhttps://conference.bioneers.org/book-signings-with-pegas
 us-books-2/
LOCATION:Pegasus Bookstore (Lobby of Brower Center)\, 2150 Allston Way Be
 rkeley\, CA 94720
URL:https://conference.bioneers.org/book-signings-with-pegasus-books-2/
END:VEVENT
END:VCALENDAR
