BEGIN:VCALENDAR
VERSION:2.0
PRODID:-//Bioneers Conference//EN
CALSCALE:GREGORIAN
METHOD:PUBLISH
BEGIN:VEVENT
UID:13109-0df684449e60aba6c403ebce7a63c889@conference.bioneers.org
DTSTAMP:20260423T041333Z
DTSTART:20260329T011500Z
DTEND:20260329T021500Z
SUMMARY:Book Signings with Pegasus Books
DESCRIPTION:Dahr Jamail signing copies of We Are the Middle of Forever: I
 ndigenous Voices from Turtle Island on the Changing Earth Dacher Keltner 
 signing copies of Awe: The New Science of Everyday Wonder and How It Can 
 Transform...\n\nhttps://conference.bioneers.org/book-signings-with-pegasu
 s-books-7/
LOCATION:Pegasus Bookstore (Lobby of Brower Center)\, 2150 Allston Way Be
 rkeley\, CA 94720
URL:https://conference.bioneers.org/book-signings-with-pegasus-books-7/
END:VEVENT
END:VCALENDAR
