BEGIN:VCALENDAR
VERSION:2.0
PRODID:-//Bioneers Conference//EN
CALSCALE:GREGORIAN
METHOD:PUBLISH
BEGIN:VEVENT
UID:13134-01ccd78d29fa8c6211acf177f332d1c0@conference.bioneers.org
DTSTAMP:20260424T121125Z
DTSTART:20260326T220000Z
DTEND:20260326T231500Z
SUMMARY:Youth Program – Young Leaders Stories & Solutions at Bioneers: Ce
 lebrating 25 years
DESCRIPTION:For 25 years\, voices of young visionaries and leaders at Bio
 neers have called for change\, inspired us with stories\, and kept our fo
 cus on future horizons. The passion and perspective that only youth can b
 ring have not...\n\nhttps://conference.bioneers.org/young-leaders-program
 -young-leaders-stories-solutions-at-bioneers-celebrating-25-years/
LOCATION:Tamalpais Room\, Brower Center\, 2150 Allston Way\, Berkeley\, C
 A 94704
URL:https://conference.bioneers.org/young-leaders-program-young-leaders-s
 tories-solutions-at-bioneers-celebrating-25-years/
END:VEVENT
END:VCALENDAR
