BEGIN:VCALENDAR
VERSION:2.0
PRODID:-//Bioneers Conference//EN
CALSCALE:GREGORIAN
METHOD:PUBLISH
BEGIN:VEVENT
UID:13137-f07125659ed412e39be7344ed0124987@conference.bioneers.org
DTSTAMP:20260424T121156Z
DTSTART:20260326T220000Z
DTEND:20260326T231500Z
SUMMARY:Youth Program – Seed Stories with Urban Tilth
DESCRIPTION:Join Urban Tilth youth and staff in celebrating and co-creati
 ng powerful stories of seeds! Explore our carefully crafted collection of
  edible\, floral\, and native seeds while sharing stories\, visions\, and
  dreams with t...\n\nhttps://conference.bioneers.org/young-leaders-progra
 m-seed-stories-with-urban-tilth/
LOCATION:Kinzie Room\, Brower Center\, 2150 Allston Way\, Berkeley\, CA 9
 4704
URL:https://conference.bioneers.org/young-leaders-program-seed-stories-wi
 th-urban-tilth/
END:VEVENT
END:VCALENDAR
