BEGIN:VCALENDAR
VERSION:2.0
PRODID:-//Bioneers Conference//EN
CALSCALE:GREGORIAN
METHOD:PUBLISH
BEGIN:VEVENT
UID:13141-7dc3b887acb9c4564dfa9adb45a77fc7@conference.bioneers.org
DTSTAMP:20260424T121157Z
DTSTART:20260326T234500Z
DTEND:20260327T010000Z
SUMMARY:Youth Program – Ōpio Dance Collective: Hula + Line-Dancing with R
 .I.S.E. Initiative
DESCRIPTION:Join our Hawaiʻi youth leaders for an energetic hour of hula 
 and line-dancing! Learn basic hula steps\, line-dance moves\, and enjoy m
 oving together to music that celebrates culture\, connection\, and commun
 ity. No experi...\n\nhttps://conference.bioneers.org/young-leaders-progra
 m-opio-dance-collective-hula-line-dancing-with-r-i-s-e-initiative/
LOCATION:Tamalpais Room\, Brower Center\, 2150 Allston Way\, Berkeley\, C
 A 94704
URL:https://conference.bioneers.org/young-leaders-program-opio-dance-coll
 ective-hula-line-dancing-with-r-i-s-e-initiative/
END:VEVENT
END:VCALENDAR
