BEGIN:VCALENDAR
VERSION:2.0
PRODID:-//Bioneers Conference//EN
CALSCALE:GREGORIAN
METHOD:PUBLISH
BEGIN:VEVENT
UID:13143-1d90b394f8be8bcf7b3f551dbd139589@conference.bioneers.org
DTSTAMP:20260424T121032Z
DTSTART:20260326T234500Z
DTEND:20260327T010000Z
SUMMARY:Youth Program – Self Defense with Amir Lacy and East Bay Area Fit
 ness
DESCRIPTION:Business owner and MMA fighter\, Amir\, will offer an introdu
 ction to self-defense techniques. Join us to get some cardio in and learn
  some moves!\n\nhttps://conference.bioneers.org/young-leaders-program-sel
 f-defense-with-amir-lacy-and-east-bay-area-fitness/
LOCATION:Kinzie Room\, Brower Center\, 2150 Allston Way\, Berkeley\, CA 9
 4704
URL:https://conference.bioneers.org/young-leaders-program-self-defense-wi
 th-amir-lacy-and-east-bay-area-fitness/
END:VEVENT
END:VCALENDAR
