BEGIN:VCALENDAR
VERSION:2.0
PRODID:-//Bioneers Conference//EN
CALSCALE:GREGORIAN
METHOD:PUBLISH
BEGIN:VEVENT
UID:13145-dac3ff7e35a7a5c7e3e5a4f2b13ab522@conference.bioneers.org
DTSTAMP:20260424T121050Z
DTSTART:20260327T013000Z
DTEND:20260327T033000Z
SUMMARY:Youth Program – Rooted\, Grounded and Fluid: An Intergenerational
  Queer Mixer 
DESCRIPTION:Visionary and expressive culture is a queer lineage that thri
 ves across the expanse of time\, even as we enter an era of emboldened pr
 ejudice against the LGBTQ2SIA community. Despite this difficult period\, 
 we know that...\n\nhttps://conference.bioneers.org/young-leaders-program-
 our-radiant-legacy-an-intergenerational-queer-mixer/
LOCATION:Tamalpais Room\, Brower Center\, 2150 Allston Way\, Berkeley\, C
 A 94704
URL:https://conference.bioneers.org/young-leaders-program-our-radiant-leg
 acy-an-intergenerational-queer-mixer/
END:VEVENT
END:VCALENDAR
