BEGIN:VCALENDAR
VERSION:2.0
PRODID:-//Bioneers Conference//EN
CALSCALE:GREGORIAN
METHOD:PUBLISH
BEGIN:VEVENT
UID:13152-2f6b00e6bf6ade9bf1b299e416e2ffee@conference.bioneers.org
DTSTAMP:20260424T040240Z
DTSTART:20260327T220000Z
DTEND:20260327T231500Z
SUMMARY:Youth Program – Leaves and Turning: Poetry Writing with Gabriel C
 ortez
DESCRIPTION:Join poet Gabriel Cortez for a poetry-writing workshop in whi
 ch we will make space to process ongoing injustices impacting our communi
 ties and draw upon the natural world for inspiration in creating a more j
 ust and su...\n\nhttps://conference.bioneers.org/youth-program-leaves-and
 -turning-poetry-writing-with-gabriel-cortez/
LOCATION:Tamalpais Room\, Brower Center\, 2150 Allston Way\, Berkeley\, C
 A 94704
URL:https://conference.bioneers.org/youth-program-leaves-and-turning-poet
 ry-writing-with-gabriel-cortez/
END:VEVENT
END:VCALENDAR
