BEGIN:VCALENDAR
VERSION:2.0
PRODID:-//Bioneers Conference//EN
CALSCALE:GREGORIAN
METHOD:PUBLISH
BEGIN:VEVENT
UID:13154-d310a0abae808acf7be0a84c63786302@conference.bioneers.org
DTSTAMP:20260424T121048Z
DTSTART:20260327T220000Z
DTEND:20260327T231500Z
SUMMARY:Youth Program – EARTHBODY Movement with Rulan Tangen
DESCRIPTION:Join us for EARTH BODY\, a joyful movement journey in which t
 he ideas and inspiration we encounter at Bioneers can come alive through 
 our bodies. Together\, we'll explore simple\, accessible movements that r
 econnect us t...\n\nhttps://conference.bioneers.org/youth-program-earthbo
 dy-movement-with-rulan-tangen/
LOCATION:Kinzie Room\, Brower Center\, 2150 Allston Way\, Berkeley\, CA 9
 4704
URL:https://conference.bioneers.org/youth-program-earthbody-movement-with
 -rulan-tangen/
END:VEVENT
END:VCALENDAR
