BEGIN:VCALENDAR
VERSION:2.0
PRODID:-//Bioneers Conference//EN
CALSCALE:GREGORIAN
METHOD:PUBLISH
BEGIN:VEVENT
UID:13156-1f945cf98f86e1136336fd3b7a049972@conference.bioneers.org
DTSTAMP:20260424T121127Z
DTSTART:20260327T220000Z
DTEND:20260327T231500Z
SUMMARY:Youth Program – Treesme/Chisme Circle: A Queer Talking Forest
DESCRIPTION:Chisme isnt mere gossip. Its verbal doses of human contact th
 at connect us. In a world thats chaotic and impersonal\, chisme laces its
  way into our emotional DNA\, helping us feel less alone. - Julie Calidon
 io True to a...\n\nhttps://conference.bioneers.org/youth-program-respect-
 protect-our-peace-a-queer-talking-circle/
LOCATION:The Marsh Cabaret\, 2120 Allston WayBerkeley\, CA 94704
URL:https://conference.bioneers.org/youth-program-respect-protect-our-pea
 ce-a-queer-talking-circle/
END:VEVENT
END:VCALENDAR
