BEGIN:VCALENDAR
VERSION:2.0
PRODID:-//Bioneers Conference//EN
CALSCALE:GREGORIAN
METHOD:PUBLISH
BEGIN:VEVENT
UID:13158-8c5ab538494ea5f46b90684eec08e2d2@conference.bioneers.org
DTSTAMP:20260424T121048Z
DTSTART:20260327T234500Z
DTEND:20260328T010000Z
SUMMARY:Youth Program – Youth of Color Caucus
DESCRIPTION:The BIPOC Youth Caucus is a safe and brave open forum where y
 outh of color have an opportunity to listen to one another and share the 
 real issues that come with holding their identities in social and environ
 mental mov...\n\nhttps://conference.bioneers.org/youth-program-youth-of-c
 olor-caucus/
LOCATION:Tamalpais Room\, Brower Center\, 2150 Allston Way\, Berkeley\, C
 A 94704
URL:https://conference.bioneers.org/youth-program-youth-of-color-caucus/
END:VEVENT
END:VCALENDAR
