BEGIN:VCALENDAR
VERSION:2.0
PRODID:-//Bioneers Conference//EN
CALSCALE:GREGORIAN
METHOD:PUBLISH
BEGIN:VEVENT
UID:13160-671b3704b479b9865391c93042953ab4@conference.bioneers.org
DTSTAMP:20260424T121215Z
DTSTART:20260328T220000Z
DTEND:20260328T231500Z
SUMMARY:Youth Program – DJ Cavem’s Beet Lab & Song Production
DESCRIPTION:Learn how to write\, produce\, and make beets with eco-hip-ho
 p artist and Grammy-nominated music educator\, DJ Cavem. We will cover be
 at-making\, song composing\, sampling\, and writing lyrics\, all in servi
 ce to raising awa...\n\nhttps://conference.bioneers.org/youth-program-dj-
 cavems-beet-lab-song-production/
LOCATION:Tamalpais Room\, Brower Center\, 2150 Allston Way\, Berkeley\, C
 A 94704
URL:https://conference.bioneers.org/youth-program-dj-cavems-beet-lab-song
 -production/
END:VEVENT
END:VCALENDAR
