BEGIN:VCALENDAR
VERSION:2.0
PRODID:-//Bioneers Conference//EN
CALSCALE:GREGORIAN
METHOD:PUBLISH
BEGIN:VEVENT
UID:13162-80760045526c4e59cb71e993e1f29f60@conference.bioneers.org
DTSTAMP:20260424T121031Z
DTSTART:20260328T220000Z
DTEND:20260328T231500Z
SUMMARY:Youth Program – Zine + Collage Workshop with Neetz + AnnaRosa
DESCRIPTION:Learn how to produce your own zines and collages! Zine and co
 llage-making are great\, super accessible ways to express yourself and fi
 nd your creative voice. You can use materials you already have at home to
  quickly ge...\n\nhttps://conference.bioneers.org/youth-program-zine-coll
 age-workshop-with-neetz-annarosa/
LOCATION:Kinzie Room\, Brower Center\, 2150 Allston Way\, Berkeley\, CA 9
 4704
URL:https://conference.bioneers.org/youth-program-zine-collage-workshop-w
 ith-neetz-annarosa/
END:VEVENT
END:VCALENDAR
