BEGIN:VCALENDAR
VERSION:2.0
PRODID:-//Bioneers Conference//EN
CALSCALE:GREGORIAN
METHOD:PUBLISH
BEGIN:VEVENT
UID:13165-ae542a42522234175a0b5dd81dc1733b@conference.bioneers.org
DTSTAMP:20260424T121050Z
DTSTART:20260328T234500Z
DTEND:20260329T010000Z
SUMMARY:Young Leaders Program – Youth Open Mic: Hosted by Jada Imani 
DESCRIPTION:Join us for the grand finale of the weekendan Open Mic sessio
 n that celebrates the vibrant voices and talents of our youth. This event
  creates a sacred and empowering space for truth and healing\, where youn
 g folks are...\n\nhttps://conference.bioneers.org/young-leaders-program-y
 outh-open-mic-hosted-by-jada-imani/
LOCATION:Tamalpais Room\, Brower Center\, 2150 Allston Way\, Berkeley\, C
 A 94704
URL:https://conference.bioneers.org/young-leaders-program-youth-open-mic-
 hosted-by-jada-imani/
END:VEVENT
END:VCALENDAR
